BEGIN:VCALENDAR
VERSION:2.0
PRODID:-//Tukios.com/
BEGIN:VEVENT
UID:da5a5998-9c35-478f-9bc3-3bdd10dbca45@www.haisleyfuneralhome.com
DTSTAMP:20260424T163946Z
DTSTART:20260429T140000Z
DTEND:20260429T150000Z
SUMMARY:Mass
DESCRIPTION:
URL:https://www.haisleyfuneralhome.com/obituaries/pamela-watts
LOCATION: 407 S 33rd St  Fort Pierce FL 34947
GEO:27.4441984;-80.3591956
END:VEVENT
END:VCALENDAR