BEGIN:VCALENDAR
VERSION:2.0
PRODID:-//Tukios.com/
BEGIN:VEVENT
UID:8a4cd2bf-07a8-444d-b0ad-819b35cfbd90@www.haisleyfuneralhome.com
DTSTAMP:20260420T193657Z
DTSTART:20260430T140000Z
DTEND:20260430T150000Z
SUMMARY:Mass
DESCRIPTION:
URL:https://www.haisleyfuneralhome.com/obituaries/maria-hurtado
LOCATION:St. Anastasia Catholic Church 407 South 33rd Street  Fort Pierce 
	FL 34947
GEO:27.4441831;-80.3590772
END:VEVENT
END:VCALENDAR