BEGIN:VCALENDAR
VERSION:2.0
PRODID:-//Tukios.com/
BEGIN:VEVENT
UID:4f2485a5-afca-4318-980e-3c4e26acc662@www.haisleyfuneralhome.com
DTSTAMP:20260420T193330Z
DTSTART:20260429T210000Z
DTEND:20260429T230000Z
SUMMARY:Visitation
DESCRIPTION:
URL:https://www.haisleyfuneralhome.com/obituaries/maria-hurtado
LOCATION: 3015 Okeechobee Rd  Fort Pierce FL 34947
GEO:27.432812;-80.3557227
END:VEVENT
END:VCALENDAR