BEGIN:VCALENDAR
VERSION:2.0
PRODID:-//Tukios.com/
BEGIN:VEVENT
UID:c1dac391-b20c-4cab-9736-c7abf8621920@www.haisleyfuneralhome.com
DTSTAMP:20260419T182704Z
DTSTART:20260503T180000Z
DTEND:20260503T190000Z
SUMMARY:Celebration of Life
DESCRIPTION:
URL:https://www.haisleyfuneralhome.com/obituaries/gail-lynch
LOCATION:Discovery Church of Vero Beach 1927 27th Avenue  Vero Beach FL 
	32960
GEO:27.6376852;-80.4144388
END:VEVENT
END:VCALENDAR