BEGIN:VCALENDAR
VERSION:2.0
PRODID:-//Tukios.com/
BEGIN:VEVENT
UID:103dde55-2659-4af6-9df6-02f53b249346@www.haisleyfuneralhome.com
DTSTAMP:20260421T202835Z
DTSTART:20260424T160000Z
DTEND:20260424T170000Z
SUMMARY:Funeral Service
DESCRIPTION:
URL:https://www.haisleyfuneralhome.com/obituaries/dorothy-schwarzkopf
LOCATION: 3015 Okeechobee Rd  Fort Pierce FL 34947
GEO:27.4328576;-80.3555552
END:VEVENT
END:VCALENDAR