BEGIN:VCALENDAR
VERSION:2.0
PRODID:-//Tukios.com/
BEGIN:VEVENT
UID:7ebd6db0-d00d-432d-8f82-126eaff350b8@www.haisleyfuneralhome.com
DTSTAMP:20260421T202250Z
DTSTART:20260424T150000Z
DTEND:20260424T160000Z
SUMMARY:Visitation
DESCRIPTION:
URL:https://www.haisleyfuneralhome.com/obituaries/dorothy-schwarzkopf
LOCATION: 3015 Okeechobee Rd  Fort Pierce FL 34947
GEO:27.4328576;-80.3555552
END:VEVENT
END:VCALENDAR